BEGIN:VCALENDAR
PRODID:-//hacksw/handcal//NONSGML v1.0//EN
VERSION:2.0
METHOD:PUBLISH
BEGIN:VEVENT
DTSTART:20230301T133000Z
DTEND:20230301T143000Z
LOCATION:Mountain City Club
UID:2372720230301T133000ZAdvanced Charitable Brainteasers: A Case Study Approach
DTSTAMP:20260423T155915Z
DESCRIPTION:\nJoint meeting with Community Foundation\n
SUMMARY:Advanced Charitable Brainteasers: A Case Study Approach - Estate Planning Council of Chattanooga 
PRIORITY:3
BEGIN:VALARM
TRIGGER:PT18H
ACTION:DISPLAY
DESCRIPTION:Reminder
END:VALARM
END:VEVENT
END:VCALENDAR