BEGIN:VCALENDAR
PRODID:-//hacksw/handcal//NONSGML v1.0//EN
VERSION:2.0
METHOD:PUBLISH
BEGIN:VEVENT
DTSTART:20230223T170000Z
DTEND:20230223T180000Z
LOCATION:Zoom
UID:2372620230223T170000ZPlanning for the Business Owner Client
DTSTAMP:20260423T153153Z
DESCRIPTION:\nTopic:  Planning for the Business Owner Client Who Has Done No Planning (with a focus on strategies and pitfalls for various business entities)\n
SUMMARY:Planning for the Business Owner Client - Estate Planning Council of Chattanooga 
PRIORITY:3
BEGIN:VALARM
TRIGGER:PT18H
ACTION:DISPLAY
DESCRIPTION:Reminder
END:VALARM
END:VEVENT
END:VCALENDAR