BEGIN:VCALENDAR
PRODID:-//hacksw/handcal//NONSGML v1.0//EN
VERSION:2.0
METHOD:PUBLISH
BEGIN:VEVENT
DTSTART:20230131T230000Z
DTEND:20230201T000000Z
LOCATION:Mountain City Club
UID:2372520230131T230000ZMarket Update
DTSTAMP:20260423T153841Z
DESCRIPTION:
SUMMARY:Market Update - Estate Planning Council of Chattanooga 
PRIORITY:3
BEGIN:VALARM
TRIGGER:PT18H
ACTION:DISPLAY
DESCRIPTION:Reminder
END:VALARM
END:VEVENT
END:VCALENDAR