BEGIN:VCALENDAR
PRODID:-//hacksw/handcal//NONSGML v1.0//EN
VERSION:2.0
METHOD:PUBLISH
BEGIN:VEVENT
DTSTART:20221114T170000Z
DTEND:20221114T180000Z
LOCATION:Zoom
UID:2359320221114T170000ZHave We Really Saved the Homestead?
DTSTAMP:20260423T152841Z
DESCRIPTION:
SUMMARY:Have We Really Saved the Homestead? - Estate Planning Council of Chattanooga 
PRIORITY:3
BEGIN:VALARM
TRIGGER:PT18H
ACTION:DISPLAY
DESCRIPTION:Reminder
END:VALARM
END:VEVENT
END:VCALENDAR