BEGIN:VCALENDAR
PRODID:-//hacksw/handcal//NONSGML v1.0//EN
VERSION:2.0
METHOD:PUBLISH
BEGIN:VEVENT
DTSTART:20221027T210000Z
DTEND:20221027T230000Z
LOCATION:Mountain City Club
UID:2350220221027T210000ZTBD
DTSTAMP:20260423T155039Z
DESCRIPTION:
SUMMARY:TBD - Estate Planning Council of Chattanooga 
PRIORITY:3
BEGIN:VALARM
TRIGGER:PT18H
ACTION:DISPLAY
DESCRIPTION:Reminder
END:VALARM
END:VEVENT
END:VCALENDAR