BEGIN:VCALENDAR
PRODID:-//hacksw/handcal//NONSGML v1.0//EN
VERSION:2.0
METHOD:PUBLISH
BEGIN:VEVENT
DTSTART:20220526T220000Z
DTEND:20220527T010000Z
LOCATION:490 Camp Jordan Parkway, East Ridge, Tennessee
UID:2268020220526T220000ZPAR-TEE AT TOPGOLF
DTSTAMP:20260423T155157Z
DESCRIPTION:
SUMMARY:PAR-TEE AT TOPGOLF - Estate Planning Council of Chattanooga 
PRIORITY:3
BEGIN:VALARM
TRIGGER:PT18H
ACTION:DISPLAY
DESCRIPTION:Reminder
END:VALARM
END:VEVENT
END:VCALENDAR