BEGIN:VCALENDAR
PRODID:-//hacksw/handcal//NONSGML v1.0//EN
VERSION:2.0
METHOD:PUBLISH
BEGIN:VEVENT
DTSTART:20220324T220000Z
DTEND:20220324T230000Z
LOCATION:Mountain City Club
UID:2250620220324T220000ZAn Ounce of Prevention – Cautionary Tales for Estate Planners from a Probate Court Perspective
DTSTAMP:20260423T155024Z
DESCRIPTION:
SUMMARY:An Ounce of Prevention – Cautionary Tales for Estate Planners from a Probate Court Perspective - Estate Planning Council of Chattanooga 
PRIORITY:3
BEGIN:VALARM
TRIGGER:PT18H
ACTION:DISPLAY
DESCRIPTION:Reminder
END:VALARM
END:VEVENT
END:VCALENDAR