BEGIN:VCALENDAR
PRODID:-//hacksw/handcal//NONSGML v1.0//EN
VERSION:2.0
METHOD:PUBLISH
BEGIN:VEVENT
DTSTART:20220429T160000Z
DTEND:20220429T170000Z
LOCATION:Zoom Meeting
UID:2212120220429T160000ZEstate Planning for Digital Assets
DTSTAMP:20260423T153706Z
DESCRIPTION:\nLocation and Time to be determined\n
SUMMARY:Estate Planning for Digital Assets - Estate Planning Council of Chattanooga 
PRIORITY:3
BEGIN:VALARM
TRIGGER:PT18H
ACTION:DISPLAY
DESCRIPTION:Reminder
END:VALARM
END:VEVENT
END:VCALENDAR