BEGIN:VCALENDAR
PRODID:-//hacksw/handcal//NONSGML v1.0//EN
VERSION:2.0
METHOD:PUBLISH
BEGIN:VEVENT
DTSTART:20220224T223000Z
DTEND:20220225T003000Z
LOCATION:TBD
UID:2212020220224T223000ZLegislative Update
DTSTAMP:20260423T154711Z
DESCRIPTION:
SUMMARY:Legislative Update - Estate Planning Council of Chattanooga 
PRIORITY:3
BEGIN:VALARM
TRIGGER:PT18H
ACTION:DISPLAY
DESCRIPTION:Reminder
END:VALARM
END:VEVENT
END:VCALENDAR