BEGIN:VCALENDAR
PRODID:-//hacksw/handcal//NONSGML v1.0//EN
VERSION:2.0
METHOD:PUBLISH
BEGIN:VEVENT
DTSTART:20220119T163000Z
DTEND:20220119T180000Z
LOCATION:Chattanooga Convention Center
UID:2211920220119T163000ZTBD - Joint Meeting with Tax Practitioners
DTSTAMP:20260423T153514Z
DESCRIPTION:
SUMMARY:TBD - Joint Meeting with Tax Practitioners - Estate Planning Council of Chattanooga 
PRIORITY:3
BEGIN:VALARM
TRIGGER:PT18H
ACTION:DISPLAY
DESCRIPTION:Reminder
END:VALARM
END:VEVENT
END:VCALENDAR