BEGIN:VCALENDAR
PRODID:-//hacksw/handcal//NONSGML v1.0//EN
VERSION:2.0
METHOD:PUBLISH
BEGIN:VEVENT
DTSTART:20211118T170000Z
DTEND:20211118T180000Z
LOCATION:Mountain City Club
UID:2171020211118T170000ZCapital Markets Outlook
DTSTAMP:20260423T154310Z
DESCRIPTION:
SUMMARY:Capital Markets Outlook - Estate Planning Council of Chattanooga 
PRIORITY:3
BEGIN:VALARM
TRIGGER:PT18H
ACTION:DISPLAY
DESCRIPTION:Reminder
END:VALARM
END:VEVENT
END:VCALENDAR