BEGIN:VCALENDAR
PRODID:-//hacksw/handcal//NONSGML v1.0//EN
VERSION:2.0
METHOD:PUBLISH
BEGIN:VEVENT
DTSTART:20211028T160000Z
DTEND:20211028T170000Z
LOCATION:Zoom
UID:2170920211028T160000ZDivorce and the Special Needs Child or, How to Save the Day by Knowing A Lot About A Little
DTSTAMP:20260423T153011Z
DESCRIPTION:
SUMMARY:Divorce and the Special Needs Child or, How to Save the Day by Knowing A Lot About A Little - Estate Planning Council of Chattanooga 
PRIORITY:3
BEGIN:VALARM
TRIGGER:PT18H
ACTION:DISPLAY
DESCRIPTION:Reminder
END:VALARM
END:VEVENT
END:VCALENDAR