BEGIN:VCALENDAR
PRODID:-//hacksw/handcal//NONSGML v1.0//EN
VERSION:2.0
METHOD:PUBLISH
BEGIN:VEVENT
DTSTART:20210930T153000Z
DTEND:20210930T163000Z
LOCATION:Zoom Meeting
UID:2170820210930T153000ZTax Savvy Strategies and Tools to Support Life-Time and Legacy Giving
DTSTAMP:20260423T153056Z
DESCRIPTION:
SUMMARY:Tax Savvy Strategies and Tools to Support Life-Time and Legacy Giving - Estate Planning Council of Chattanooga 
PRIORITY:3
BEGIN:VALARM
TRIGGER:PT18H
ACTION:DISPLAY
DESCRIPTION:Reminder
END:VALARM
END:VEVENT
END:VCALENDAR