BEGIN:VCALENDAR
PRODID:-//hacksw/handcal//NONSGML v1.0//EN
VERSION:2.0
METHOD:PUBLISH
BEGIN:VEVENT
DTSTART:20210325T160000Z
DTEND:20210325T170000Z
LOCATION:Virtual - Zoom
UID:2073120210325T160000ZTop Ten Estate Planning Lessons from Celebrities
DTSTAMP:20260423T154006Z
DESCRIPTION:
SUMMARY:Top Ten Estate Planning Lessons from Celebrities - Estate Planning Council of Chattanooga 
PRIORITY:3
BEGIN:VALARM
TRIGGER:PT18H
ACTION:DISPLAY
DESCRIPTION:Reminder
END:VALARM
END:VEVENT
END:VCALENDAR