BEGIN:VCALENDAR
PRODID:-//hacksw/handcal//NONSGML v1.0//EN
VERSION:2.0
METHOD:PUBLISH
BEGIN:VEVENT
DTSTART:20210225T170000Z
DTEND:20210225T180000Z
LOCATION:Virtual - Zoom
UID:2072920210225T170000ZPlanning with Digital Assets
DTSTAMP:20260423T153041Z
DESCRIPTION:
SUMMARY:Planning with Digital Assets - Estate Planning Council of Chattanooga 
PRIORITY:3
BEGIN:VALARM
TRIGGER:PT18H
ACTION:DISPLAY
DESCRIPTION:Reminder
END:VALARM
END:VEVENT
END:VCALENDAR