BEGIN:VCALENDAR
PRODID:-//hacksw/handcal//NONSGML v1.0//EN
VERSION:2.0
METHOD:PUBLISH
BEGIN:VEVENT
DTSTART:20200924T160000Z
DTEND:20200924T170000Z
LOCATION:Zoom Pro Meeting
UID:2011520200924T160000ZUnderstanding Social Security
DTSTAMP:20260423T152924Z
DESCRIPTION:\nMeeting available to members of Estate Planning Council of Chattanooga\n
SUMMARY:Understanding Social Security - Estate Planning Council of Chattanooga 
PRIORITY:3
BEGIN:VALARM
TRIGGER:PT18H
ACTION:DISPLAY
DESCRIPTION:Reminder
END:VALARM
END:VEVENT
END:VCALENDAR