BEGIN:VCALENDAR
PRODID:-//hacksw/handcal//NONSGML v1.0//EN
VERSION:2.0
METHOD:PUBLISH
BEGIN:VEVENT
DTSTART:20200422T160000Z
DTEND:20200422T170000Z
LOCATION:Chattanooga Convention Center
UID:1860120200422T160000ZCANCELED - Fiduciary Responsibilities and What to Expect in an EBSA Investigation
DTSTAMP:20260423T153317Z
DESCRIPTION:\nJoint lunch meeting with Chattanooga Tax Practitioners\n
SUMMARY:CANCELED - Fiduciary Responsibilities and What to Expect in an EBSA Investigation - Estate Planning Council of Chattanooga 
PRIORITY:3
BEGIN:VALARM
TRIGGER:PT18H
ACTION:DISPLAY
DESCRIPTION:Reminder
END:VALARM
END:VEVENT
END:VCALENDAR