BEGIN:VCALENDAR
PRODID:-//hacksw/handcal//NONSGML v1.0//EN
VERSION:2.0
METHOD:PUBLISH
BEGIN:VEVENT
DTSTART:20200326T114500Z
DTEND:20200326T130000Z
LOCATION:Mountain City Club
UID:1859920200326T114500ZCANCELED - Estate & Asset Protection Planning with Tennessee Trusts
DTSTAMP:20260423T153750Z
DESCRIPTION:\nEvent open only to members of the Estate Planning Council of Chattanooga\n
SUMMARY:CANCELED - Estate & Asset Protection Planning with Tennessee Trusts - Estate Planning Council of Chattanooga 
PRIORITY:3
BEGIN:VALARM
TRIGGER:PT18H
ACTION:DISPLAY
DESCRIPTION:Reminder
END:VALARM
END:VEVENT
END:VCALENDAR