BEGIN:VCALENDAR
PRODID:-//hacksw/handcal//NONSGML v1.0//EN
VERSION:2.0
METHOD:PUBLISH
BEGIN:VEVENT
DTSTART:20200227T123000Z
DTEND:20200227T133000Z
LOCATION:Mountain City Club
UID:1859820200227T123000ZWhy Might My Client Need a Special Needs Trust?
DTSTAMP:20260423T154443Z
DESCRIPTION:\nEvent open only to members of the Estate Planning Council of Chattanooga\n \nSafeguarding public benefits is often a primary concern for those caring for a loved on with special needs.  Special Needs Trusts can play an important role in preserving or achieving eligibility for public benefits.  This presentation will review the types of public benefits that are available for individuals with special needs trusts and how different types of Special Needs Trusts can be used to provide the highest quality of life for beneficiaries.   \n
SUMMARY:Why Might My Client Need a Special Needs Trust? - Estate Planning Council of Chattanooga 
PRIORITY:3
BEGIN:VALARM
TRIGGER:PT18H
ACTION:DISPLAY
DESCRIPTION:Reminder
END:VALARM
END:VEVENT
END:VCALENDAR