BEGIN:VCALENDAR
PRODID:-//hacksw/handcal//NONSGML v1.0//EN
VERSION:2.0
METHOD:PUBLISH
BEGIN:VEVENT
DTSTART:20191024T113000Z
DTEND:20191024T123000Z
LOCATION:Mountain City Club
UID:1859520191024T113000ZHoarding 101 - One Day This Will All Be Yours
DTSTAMP:20260423T153222Z
DESCRIPTION:\nEvent open only to members of the Estate Planning Council of Chattanooga\n
SUMMARY:Hoarding 101 - One Day This Will All Be Yours - Estate Planning Council of Chattanooga 
PRIORITY:3
BEGIN:VALARM
TRIGGER:PT18H
ACTION:DISPLAY
DESCRIPTION:Reminder
END:VALARM
END:VEVENT
END:VCALENDAR