BEGIN:VCALENDAR
PRODID:-//hacksw/handcal//NONSGML v1.0//EN
VERSION:2.0
METHOD:PUBLISH
BEGIN:VEVENT
DTSTART:20190926T223000Z
DTEND:20190926T233000Z
LOCATION:Mountain City Club
UID:1830620190926T223000ZBeyond Cash - Planning Strategies for Complex Charitable Contributions
DTSTAMP:20260423T153340Z
DESCRIPTION:\nEvent open only to members of the Estate Planning Council of Chattanooga\n
SUMMARY:Beyond Cash - Planning Strategies for Complex Charitable Contributions - Estate Planning Council of Chattanooga 
PRIORITY:3
BEGIN:VALARM
TRIGGER:PT18H
ACTION:DISPLAY
DESCRIPTION:Reminder
END:VALARM
END:VEVENT
END:VCALENDAR