BEGIN:VCALENDAR
PRODID:-//hacksw/handcal//NONSGML v1.0//EN
VERSION:2.0
METHOD:PUBLISH
BEGIN:VEVENT
DTSTART:20190516T220000Z
DTEND:20190517T000000Z
LOCATION:Chattanooga Whiskey Event Hall
UID:1718520190516T220000ZSocial Event - Chattanooga Whiskey
DTSTAMP:20260423T154628Z
DESCRIPTION:
SUMMARY:Social Event - Chattanooga Whiskey - Estate Planning Council of Chattanooga 
PRIORITY:3
BEGIN:VALARM
TRIGGER:PT18H
ACTION:DISPLAY
DESCRIPTION:Reminder
END:VALARM
END:VEVENT
END:VCALENDAR