BEGIN:VCALENDAR
PRODID:-//hacksw/handcal//NONSGML v1.0//EN
VERSION:2.0
METHOD:PUBLISH
BEGIN:VEVENT
DTSTART:20190425T213000Z
DTEND:20190425T233000Z
LOCATION:Mountain City Club
UID:1718420190425T213000ZEstate Planning for Digital and Crypto Currency Assets
DTSTAMP:20260423T155528Z
DESCRIPTION:
SUMMARY:Estate Planning for Digital and Crypto Currency Assets - Estate Planning Council of Chattanooga 
PRIORITY:3
BEGIN:VALARM
TRIGGER:PT18H
ACTION:DISPLAY
DESCRIPTION:Reminder
END:VALARM
END:VEVENT
END:VCALENDAR