BEGIN:VCALENDAR
PRODID:-//hacksw/handcal//NONSGML v1.0//EN
VERSION:2.0
METHOD:PUBLISH
BEGIN:VEVENT
DTSTART:20190328T213000Z
DTEND:20190328T233000Z
LOCATION:Mountain City Club
UID:1718320190328T213000ZTax-Saving Strategies Under the Legislation Known as the Tax Cuts and Jobs Act
DTSTAMP:20260423T155039Z
DESCRIPTION:
SUMMARY:Tax-Saving Strategies Under the Legislation Known as the Tax Cuts and Jobs Act - Estate Planning Council of Chattanooga 
PRIORITY:3
BEGIN:VALARM
TRIGGER:PT18H
ACTION:DISPLAY
DESCRIPTION:Reminder
END:VALARM
END:VEVENT
END:VCALENDAR