BEGIN:VCALENDAR
PRODID:-//hacksw/handcal//NONSGML v1.0//EN
VERSION:2.0
METHOD:PUBLISH
BEGIN:VEVENT
DTSTART:20190228T223000Z
DTEND:20190301T003000Z
LOCATION:Mountain City Club
UID:1718220190228T223000ZEstate Planning or Exit Planning, Which Comes First?
DTSTAMP:20260423T154415Z
DESCRIPTION:
SUMMARY:Estate Planning or Exit Planning, Which Comes First? - Estate Planning Council of Chattanooga 
PRIORITY:3
BEGIN:VALARM
TRIGGER:PT18H
ACTION:DISPLAY
DESCRIPTION:Reminder
END:VALARM
END:VEVENT
END:VCALENDAR