BEGIN:VCALENDAR
PRODID:-//hacksw/handcal//NONSGML v1.0//EN
VERSION:2.0
METHOD:PUBLISH
BEGIN:VEVENT
DTSTART:20190124T220000Z
DTEND:20190125T003000Z
LOCATION:Mountain City Club
UID:1718120190124T220000ZMarket Update
DTSTAMP:20260423T154006Z
DESCRIPTION:
SUMMARY:Market Update - Estate Planning Council of Chattanooga 
PRIORITY:3
BEGIN:VALARM
TRIGGER:PT18H
ACTION:DISPLAY
DESCRIPTION:Reminder
END:VALARM
END:VEVENT
END:VCALENDAR