BEGIN:VCALENDAR
PRODID:-//hacksw/handcal//NONSGML v1.0//EN
VERSION:2.0
METHOD:PUBLISH
BEGIN:VEVENT
DTSTART:20181115T223000Z
DTEND:20181116T003000Z
LOCATION:Mountain City Club
UID:1710620181115T223000ZRetirement Plan Solutions - Cash Balance Plans
DTSTAMP:20260423T155645Z
DESCRIPTION:
SUMMARY:Retirement Plan Solutions - Cash Balance Plans - Estate Planning Council of Chattanooga 
PRIORITY:3
BEGIN:VALARM
TRIGGER:PT18H
ACTION:DISPLAY
DESCRIPTION:Reminder
END:VALARM
END:VEVENT
END:VCALENDAR