BEGIN:VCALENDAR
PRODID:-//hacksw/handcal//NONSGML v1.0//EN
VERSION:2.0
METHOD:PUBLISH
BEGIN:VEVENT
DTSTART:20181016T200000Z
DTEND:20181016T220000Z
LOCATION:Mountain City Club
UID:1706020181016T200000ZNetworking Event
DTSTAMP:20260423T153416Z
DESCRIPTION:\nInformal networking event for the members of the Estate Planning Council to be held on the patio of the Mountain City Club.  Light hors d'eoeuvres and beer and wine will be served. \n
SUMMARY:Networking Event - Estate Planning Council of Chattanooga 
PRIORITY:3
BEGIN:VALARM
TRIGGER:PT18H
ACTION:DISPLAY
DESCRIPTION:Reminder
END:VALARM
END:VEVENT
END:VCALENDAR