BEGIN:VCALENDAR
PRODID:-//hacksw/handcal//NONSGML v1.0//EN
VERSION:2.0
METHOD:PUBLISH
BEGIN:VEVENT
DTSTART:20181025T113000Z
DTEND:20181025T130000Z
LOCATION:Mountain City Club
UID:1667820181025T113000ZSocial Selling for Professionals
DTSTAMP:20260423T154818Z
DESCRIPTION:\nThere will be an extended break-out session beginning at 9:30 and concluding at 10:30\n \nentitled:  How to Create a Killer Digital Brand\n
SUMMARY:Social Selling for Professionals - Estate Planning Council of Chattanooga 
PRIORITY:3
BEGIN:VALARM
TRIGGER:PT18H
ACTION:DISPLAY
DESCRIPTION:Reminder
END:VALARM
END:VEVENT
END:VCALENDAR