BEGIN:VCALENDAR
PRODID:-//hacksw/handcal//NONSGML v1.0//EN
VERSION:2.0
METHOD:PUBLISH
BEGIN:VEVENT
DTSTART:20180927T153000Z
DTEND:20180927T170000Z
LOCATION:Chattanooga Convention Center
UID:1667720180927T153000ZAdvanced Planning Applications for Market-Based Life Insurance Valuations - Joint Meeting with Chattanooga Tax Practitioners
DTSTAMP:20260423T153451Z
DESCRIPTION:\nThis meeting is a joint LUNCH meeting with the Chattanooga Tax Practitioners to be held at the Chattanooga Convention Center (Meeting Room 4/5). A lunch buffet will be available beginning at 11:30 a.m.  After the lunch session, an additional 1 hour session is offered at the cost of $25.00 and must be paid at the door (Meeting Room 3).\n \nJamie L. Mendelsohn is the Executive Vice President of the Ashar Group and Ashar SMV. Since joining the Ashar Group in 2007, Jamis has been responsible for national partnerships, including the nation's leading life insurance carriers, and collaborating with members of the insurance, financial services, estate planning, business planning, and legal communities. She speaks nationally about life settlements, policy valuations, and increased longevity among seniors.\n
SUMMARY:Advanced Planning Applications for Market-Based Life Insurance Valuations - Joint Meeting with Chattanooga Tax Practitioners - Estate Planning Council of Chattanooga 
PRIORITY:3
BEGIN:VALARM
TRIGGER:PT18H
ACTION:DISPLAY
DESCRIPTION:Reminder
END:VALARM
END:VEVENT
END:VCALENDAR