BEGIN:VCALENDAR
PRODID:-//hacksw/handcal//NONSGML v1.0//EN
VERSION:2.0
METHOD:PUBLISH
BEGIN:VEVENT
DTSTART:20180426T213000Z
DTEND:20180426T233000Z
LOCATION:Mountain City Club
UID:1572320180426T213000ZESOPs and Estate Planning - Self Sponsored Tax Advantaged LBOs for Closely Held Businesses
DTSTAMP:20260423T154127Z
DESCRIPTION:
SUMMARY:ESOPs and Estate Planning - Self Sponsored Tax Advantaged LBOs for Closely Held Businesses - Estate Planning Council of Chattanooga 
PRIORITY:3
BEGIN:VALARM
TRIGGER:PT18H
ACTION:DISPLAY
DESCRIPTION:Reminder
END:VALARM
END:VEVENT
END:VCALENDAR