BEGIN:VCALENDAR
PRODID:-//hacksw/handcal//NONSGML v1.0//EN
VERSION:2.0
METHOD:PUBLISH
BEGIN:VEVENT
DTSTART:20180222T223000Z
DTEND:20180223T003000Z
LOCATION:Mountain City Club
UID:1572120180222T223000ZTBD
DTSTAMP:20260423T155841Z
DESCRIPTION:
SUMMARY:TBD - Estate Planning Council of Chattanooga 
PRIORITY:3
BEGIN:VALARM
TRIGGER:PT18H
ACTION:DISPLAY
DESCRIPTION:Reminder
END:VALARM
END:VEVENT
END:VCALENDAR