BEGIN:VCALENDAR
PRODID:-//hacksw/handcal//NONSGML v1.0//EN
VERSION:2.0
METHOD:PUBLISH
BEGIN:VEVENT
DTSTART:20180125T223000Z
DTEND:20180126T003000Z
LOCATION:Mountain City Club
UID:1572020180125T223000ZCapital Market Outlook
DTSTAMP:20260423T154415Z
DESCRIPTION:
SUMMARY:Capital Market Outlook - Estate Planning Council of Chattanooga 
PRIORITY:3
BEGIN:VALARM
TRIGGER:PT18H
ACTION:DISPLAY
DESCRIPTION:Reminder
END:VALARM
END:VEVENT
END:VCALENDAR