BEGIN:VCALENDAR
PRODID:-//hacksw/handcal//NONSGML v1.0//EN
VERSION:2.0
METHOD:PUBLISH
BEGIN:VEVENT
DTSTART:20171115T163000Z
DTEND:20171115T180000Z
LOCATION:The Walden Club
UID:1555420171115T163000ZDebunking Myths Regarding Annuities
DTSTAMP:20260423T153750Z
DESCRIPTION:\nThis meeting is a joint LUNCH meeting with the Chattanooga Tax Practitioners.\n
SUMMARY:Debunking Myths Regarding Annuities - Estate Planning Council of Chattanooga 
PRIORITY:3
BEGIN:VALARM
TRIGGER:PT18H
ACTION:DISPLAY
DESCRIPTION:Reminder
END:VALARM
END:VEVENT
END:VCALENDAR