BEGIN:VCALENDAR
PRODID:-//hacksw/handcal//NONSGML v1.0//EN
VERSION:2.0
METHOD:PUBLISH
BEGIN:VEVENT
DTSTART:20171026T113000Z
DTEND:20171026T130000Z
LOCATION:Mountain City Club
UID:1532220171026T113000ZSupporting Organizations: A Tax Savvy Tool for Generosity - The Howard Fund Case Study
DTSTAMP:20260423T153947Z
DESCRIPTION:\nParticipants will:\n           Learn about the structure and benefits of supporting organizations           Understand how supporting organizations differ from donor advised funds and private foundations and what advantages they may offer philanthropic clients           Hear how one local philanthropist utilized a supporting organization to meet his philanthropic and estate planning goals and create a meaningful impact on our community
SUMMARY:Supporting Organizations: A Tax Savvy Tool for Generosity - The Howard Fund Case Study - Estate Planning Council of Chattanooga 
PRIORITY:3
BEGIN:VALARM
TRIGGER:PT18H
ACTION:DISPLAY
DESCRIPTION:Reminder
END:VALARM
END:VEVENT
END:VCALENDAR