BEGIN:VCALENDAR
PRODID:-//hacksw/handcal//NONSGML v1.0//EN
VERSION:2.0
METHOD:PUBLISH
BEGIN:VEVENT
DTSTART:20170928T213000Z
DTEND:20170928T233000Z
LOCATION:Mountain City Club
UID:1532120170928T213000ZCONTEMPORARY ESTATE PLANNING PARADIGMS FOR MARRIED COUPLES
DTSTAMP:20260423T154701Z
DESCRIPTION:
SUMMARY:CONTEMPORARY ESTATE PLANNING PARADIGMS FOR MARRIED COUPLES - Estate Planning Council of Chattanooga 
PRIORITY:3
BEGIN:VALARM
TRIGGER:PT18H
ACTION:DISPLAY
DESCRIPTION:Reminder
END:VALARM
END:VEVENT
END:VCALENDAR