BEGIN:VCALENDAR
PRODID:-//hacksw/handcal//NONSGML v1.0//EN
VERSION:2.0
METHOD:PUBLISH
BEGIN:VEVENT
DTSTART:20161027T213000Z
DTEND:20161027T233000Z
LOCATION:The Mountain City Club of Chattanooga
UID:1396620161027T213000ZThe Impact of Proposed 2704 Regulations on Buy-Sell Agreements and Estate and Gift Valuations
DTSTAMP:20260423T155758Z
DESCRIPTION:
SUMMARY:The Impact of Proposed 2704 Regulations on Buy-Sell Agreements and Estate and Gift Valuations - Estate Planning Council of Chattanooga 
PRIORITY:3
BEGIN:VALARM
TRIGGER:PT18H
ACTION:DISPLAY
DESCRIPTION:Reminder
END:VALARM
END:VEVENT
END:VCALENDAR