BEGIN:VCALENDAR
PRODID:-//hacksw/handcal//NONSGML v1.0//EN
VERSION:2.0
METHOD:PUBLISH
BEGIN:VEVENT
DTSTART:20170126T223000Z
DTEND:20170127T003000Z
LOCATION:The Mountain City Club of Chattanooga
UID:1385820170126T223000ZMarket Update
DTSTAMP:20260423T155030Z
DESCRIPTION:
SUMMARY:Market Update - Estate Planning Council of Chattanooga 
PRIORITY:3
BEGIN:VALARM
TRIGGER:PT18H
ACTION:DISPLAY
DESCRIPTION:Reminder
END:VALARM
END:VEVENT
END:VCALENDAR