BEGIN:VCALENDAR
PRODID:-//hacksw/handcal//NONSGML v1.0//EN
VERSION:2.0
METHOD:PUBLISH
BEGIN:VEVENT
DTSTART:20161214T170000Z
DTEND:20161214T180000Z
LOCATION:Chattanooga Trade Center
UID:1385720161214T170000ZTax Practitioners Joint Meeting
DTSTAMP:20260423T154711Z
DESCRIPTION:\nTopic To Be Announced\n
SUMMARY:Tax Practitioners Joint Meeting - Estate Planning Council of Chattanooga 
PRIORITY:3
BEGIN:VALARM
TRIGGER:PT18H
ACTION:DISPLAY
DESCRIPTION:Reminder
END:VALARM
END:VEVENT
END:VCALENDAR