BEGIN:VCALENDAR
PRODID:-//hacksw/handcal//NONSGML v1.0//EN
VERSION:2.0
METHOD:PUBLISH
BEGIN:VEVENT
DTSTART:20161110T223000Z
DTEND:20161111T003000Z
LOCATION:
UID:1385620161110T223000ZNo Meeting
DTSTAMP:20260423T155151Z
DESCRIPTION:
SUMMARY:No Meeting - Estate Planning Council of Chattanooga 
PRIORITY:3
BEGIN:VALARM
TRIGGER:PT18H
ACTION:DISPLAY
DESCRIPTION:Reminder
END:VALARM
END:VEVENT
END:VCALENDAR