BEGIN:VCALENDAR
PRODID:-//hacksw/handcal//NONSGML v1.0//EN
VERSION:2.0
METHOD:PUBLISH
BEGIN:VEVENT
DTSTART:20160922T213000Z
DTEND:20160922T233000Z
LOCATION:The Mountain City Club of Chattanooga
UID:1383920160922T213000ZThe New Fiduciary Rule: What you Need to Know
DTSTAMP:20260423T154549Z
DESCRIPTION:
SUMMARY:The New Fiduciary Rule: What you Need to Know - Estate Planning Council of Chattanooga 
PRIORITY:3
BEGIN:VALARM
TRIGGER:PT18H
ACTION:DISPLAY
DESCRIPTION:Reminder
END:VALARM
END:VEVENT
END:VCALENDAR