BEGIN:VCALENDAR
PRODID:-//hacksw/handcal//NONSGML v1.0//EN
VERSION:2.0
METHOD:PUBLISH
BEGIN:VEVENT
DTSTART:20160420T160000Z
DTEND:20160420T171500Z
LOCATION:Chattanooga Convention Center
UID:1305820160420T160000ZCharitable Giving Techniques
DTSTAMP:20260423T155346Z
DESCRIPTION:
SUMMARY:Charitable Giving Techniques - Estate Planning Council of Chattanooga 
PRIORITY:3
BEGIN:VALARM
TRIGGER:PT18H
ACTION:DISPLAY
DESCRIPTION:Reminder
END:VALARM
END:VEVENT
END:VCALENDAR