BEGIN:VCALENDAR
PRODID:-//hacksw/handcal//NONSGML v1.0//EN
VERSION:2.0
METHOD:PUBLISH
BEGIN:VEVENT
DTSTART:20150924T223000Z
DTEND:20150924T233000Z
LOCATION:The Mountain City Club
UID:1241820150924T223000ZThe Most Common Pitfalls of Estate Administration and How to Avoid Them
DTSTAMP:20260423T153011Z
DESCRIPTION:\n \nThe cocktail/social period will be from 5:30 p.m. to 6:00 p.m., with dinner served promptly at 6:00 p.m.   The speaker will begin her presentation at 6:30 p.m. and the meeting will adjourn at 7:30 p.m.\n \n \n \nFor sustaining members, the cost of meals for each meeting for which a reservation is made is$20.00, even if not attended.  For guests, the cost of the meal for each meeting for which a reservation is made is $30.00, which is the host member’s liability.\n \n \n \nRESERVATIONS: Please send your reservation to the Estate Planning Council's Administrative Assistant, Robin Holcomb, by e-mail, fax or phone, no later than 5:00 p.m., September 21, 2015, as follows.\n \n \n \n                                Reservations e-mail address:      reh@smrw.com\n \n                                Reservations fax number:            423/756-4801  (Attn. Robin H.)\n \n                                Reservations phone number:     423/757-0487\n \n \n \nPlease indicate in your reservation your food choice (i.e., beef, chicken, fish, fruit or vegetable). Please note: If you do not indicate your choice, you will automatically default to beef.  Please also indicate the name(s) and number(s) of guests.  If you are a sustainer, please so indicate.\n \n \n \nDo not call the Mountain City Club with reservations, changes or cancellations.  Send notice of changes or cancellations to Robin by e-mail, fax or phone.\n \n \n \nCLE/CPE/CFP CREDIT:  This meeting will be submitted for approval for CLE, CPE and CFP credit.\n
SUMMARY:The Most Common Pitfalls of Estate Administration and How to Avoid Them - Estate Planning Council of Chattanooga 
PRIORITY:3
BEGIN:VALARM
TRIGGER:PT18H
ACTION:DISPLAY
DESCRIPTION:Reminder
END:VALARM
END:VEVENT
END:VCALENDAR