BEGIN:VCALENDAR
PRODID:-//hacksw/handcal//NONSGML v1.0//EN
VERSION:2.0
METHOD:PUBLISH
BEGIN:VEVENT
DTSTART:20150326T213000Z
DTEND:20150326T233000Z
LOCATION:The Mountain City Club of Chattanooga
UID:1153920150326T213000Z“Death, Incapacity & Digital Assets
DTSTAMP:20260423T153814Z
DESCRIPTION:\nDonald J. Farinato has been practicing law for more than 15 years. His practice focuses on the administration of all types of estates and trusts. Donald represents beneficiaries and fiduciaries in routine probate matters, as well as in complex probate proceedings and in estate controversies. He builds on his administration expertise to help clients craft individualized estate plans through Wills, Trusts, Powers of Attorney, Living Wills, Advance Care Plans, and other estate planning documents and techniques. Donald works with families and courts in conservatorship and guardianship matters, and also assists individuals with wealth transfer tax return preparation and audits. Additionally, Donald provides legal advice to businesses for various formation and operational matters.\n
SUMMARY:“Death, Incapacity & Digital Assets - Estate Planning Council of Chattanooga 
PRIORITY:3
BEGIN:VALARM
TRIGGER:PT18H
ACTION:DISPLAY
DESCRIPTION:Reminder
END:VALARM
END:VEVENT
END:VCALENDAR