BEGIN:VCALENDAR
PRODID:-//hacksw/handcal//NONSGML v1.0//EN
VERSION:2.0
METHOD:PUBLISH
BEGIN:VEVENT
DTSTART:20151022T213000Z
DTEND:20151022T233000Z
LOCATION:The Mountain City Club
UID:1090520151022T213000ZEthics Training
DTSTAMP:20260423T154817Z
DESCRIPTION:
SUMMARY:Ethics Training - Estate Planning Council of Chattanooga 
PRIORITY:3
BEGIN:VALARM
TRIGGER:PT18H
ACTION:DISPLAY
DESCRIPTION:Reminder
END:VALARM
END:VEVENT
END:VCALENDAR