BEGIN:VCALENDAR
PRODID:-//hacksw/handcal//NONSGML v1.0//EN
VERSION:2.0
METHOD:PUBLISH
BEGIN:VEVENT
DTSTART:20150423T213000Z
DTEND:20150423T233000Z
LOCATION:The Easy Bistro
UID:1090220150423T213000ZAnnual Social Event
DTSTAMP:20260423T153017Z
DESCRIPTION:\nThe Estate Planning Council Social this year will be a post-tax season extravaganza.\n \n \n \nThe festivities will be held on April 23 at Easy Bistro.  We will be having a cocktail tasting.  Chef Erik Niel will pair an assortment of cocktails with an array of hors d’oeuvres based on what is local and fresh.  The fun begins at 5:30 and will be wrapped up around 7:30.\n \n \n \nIt just so happens that Thursday nights, Easy offers half priced oysters, so members may want to plan to stick around, make dinner reservations, and continue to enjoy the dinner specials that evening.  Easy Bistro has free valet parking.\n
SUMMARY:Annual Social Event - Estate Planning Council of Chattanooga 
PRIORITY:3
BEGIN:VALARM
TRIGGER:PT18H
ACTION:DISPLAY
DESCRIPTION:Reminder
END:VALARM
END:VEVENT
END:VCALENDAR