BEGIN:VCALENDAR
PRODID:-//hacksw/handcal//NONSGML v1.0//EN
VERSION:2.0
METHOD:PUBLISH
BEGIN:VEVENT
DTSTART:20160121T223000Z
DTEND:20160122T003000Z
LOCATION:The Mountain City Club of Chattanooga
UID:1088320160121T223000ZCapital Markets Update
DTSTAMP:20260423T153634Z
DESCRIPTION:
SUMMARY:Capital Markets Update - Estate Planning Council of Chattanooga 
PRIORITY:3
BEGIN:VALARM
TRIGGER:PT18H
ACTION:DISPLAY
DESCRIPTION:Reminder
END:VALARM
END:VEVENT
END:VCALENDAR