BEGIN:VCALENDAR
PRODID:-//hacksw/handcal//NONSGML v1.0//EN
VERSION:2.0
METHOD:PUBLISH
BEGIN:VEVENT
DTSTART:20141113T223000Z
DTEND:20141114T003000Z
LOCATION:The Mountain City Club of Chattanooga
UID:1088220141113T223000ZSpecial Needs Trusts Part 2
DTSTAMP:20260423T154217Z
DESCRIPTION:
SUMMARY:Special Needs Trusts Part 2 - Estate Planning Council of Chattanooga 
PRIORITY:3
BEGIN:VALARM
TRIGGER:PT18H
ACTION:DISPLAY
DESCRIPTION:Reminder
END:VALARM
END:VEVENT
END:VCALENDAR