BEGIN:VCALENDAR
PRODID:-//hacksw/handcal//NONSGML v1.0//EN
VERSION:2.0
METHOD:PUBLISH
BEGIN:VEVENT
DTSTART:20141023T213000Z
DTEND:20141023T233000Z
LOCATION:Trade Center
UID:1088120141023T213000ZFamily Dynamics and Intergenerational Conflict
DTSTAMP:20260423T155920Z
DESCRIPTION:\nWe will discuss the Fundamentals of Family Dynamics, Trust Beneficiary Communications, Family Meetings as a Communication Tool, and Family Dynamics Resources & Best Practices.  The focus will be on recognizing the role of family dynamics in a client’s financial affairs, including the effect of common money beliefs and associations; engaging in enhanced communications with clients using active listening skills to identify core issues and diffuse difficult situations; .  articulating the importance of establishing a trust beneficiary communications model; understanding your role as an advisor in the process of designing and hosting family meetings; and, applying family dynamics concepts and tools in your day-to-day practice as an advisor.\n
SUMMARY:Family Dynamics and Intergenerational Conflict - Estate Planning Council of Chattanooga 
PRIORITY:3
BEGIN:VALARM
TRIGGER:PT18H
ACTION:DISPLAY
DESCRIPTION:Reminder
END:VALARM
END:VEVENT
END:VCALENDAR