BEGIN:VCALENDAR
PRODID:-//hacksw/handcal//NONSGML v1.0//EN
VERSION:2.0
METHOD:PUBLISH
BEGIN:VEVENT
DTSTART:20140925T213000Z
DTEND:20140925T233000Z
LOCATION:The Mountain City Club of Chattanooga
UID:1088020140925T213000ZTrust Owned Life Insurance and the Exit Strategies in the Large Life Insurance Case
DTSTAMP:20260423T153947Z
DESCRIPTION:
SUMMARY:Trust Owned Life Insurance and the Exit Strategies in the Large Life Insurance Case - Estate Planning Council of Chattanooga 
PRIORITY:3
BEGIN:VALARM
TRIGGER:PT18H
ACTION:DISPLAY
DESCRIPTION:Reminder
END:VALARM
END:VEVENT
END:VCALENDAR